Workbook

Sheet 申請書　記入例
A1: 様式第１号（第５条、第６条関係）
G2: 文化会館 | J2: （市民会館） | N2: 使用許可（変更）申請書
O4: 受付番号 | T4: 第 | X4: 号
O5: 受付年月日 | T5: 年 | V5: 月 | X5: 日
A6: （宛先）各務原市文化会館指定管理者
C7: （公財）かかみがはら未来文化財団
I9: 使用団体 | L9: 所在地： | O9: 各務原市蘇原中央町2-1-8
L10: 名称： | O10: （公財）かかみがはら未来文化財団
L11: 責任者名： | O11: 理事長 井戸輝雄
L12: 電話： | O12: 058-372-7231
A14: 下記のとおり文化会館を使用したいので許可されるよう申請します。
A15: 催物の名称 | F15: コラボレーションコンサート
A16: 催物の内容 | F16: オーケストラ
A17: 使用日時① | G17: 4 | H17: 月 | I17: 19 | J17: 日 | K17: （ | L17: 土 | M17: ） | N17: 午後 | O17: 1 | Q17: 時 | R17: ～ | T17: 午後 | U17: 9 | W17: 時
A18: 使用日時② | G18: 4 | H18: 月 | I18: 20 | J18: 日 | K18: （ | L18: 日 | M18: ） | N18: 午前 | O18: 9 | Q18: 時 | R18: ～ | T18: 午後 | U18: 9 | W18: 時
A19: 使用日時③ | H19: 月 | J19: 日 | K19: （ | M19: ） | N19: 午前 | Q19: 時 | R19: ～ | T19: 午前 | W19: 時
A20: 使用日時④ | H20: 月 | J20: 日 | K20: （ | M20: ） | N20: 午前 | Q20: 時 | R20: ～ | T20: 午前 | W20: 時
A21: 使用日時⑤ | H21: 月 | J21: 日 | K21: （ | M21: ） | N21: 午前 | Q21: 時 | R21: ～ | T21: 午前 | W21: 時
A22: 使用日時⑥ | H22: 月 | J22: 日 | K22: （ | M22: ） | N22: 午前 | Q22: 時 | R22: ～ | T22: 午前 | W22: 時
A23: 入場料金の有無 | G23: 有 | N23: 入場予定人員 | T23: 435 | X23: 人
A24: 有料の場合の料金 | F24: 前売 | H24: 一般5,000 | K24: 円 | L24: 高校生2,000 | O24: 円 | S24: 円 | X24: 円
F25: 当日 | H25: 一般5,000 | K25: 円 | L25: 高校生2,000 | O25: 円 | S25: 円 | X25: 円
A26: 席 種・券 種 | G26: 自由席
A27: 予定時間 | H27: 開催日 | M27: 開 場 | Q27: 開 演 | U27: 終 演
F28: 第一回 | H28: 45767 | M28: 0.5625 | Q28: 0.58333333 | U28: 0.66666667
F29: 第二回
A30: その他 | F30: ☑ | H30: 使用許可書への公印の押印の省略について承認します。 （省略の目的：使用許可書到着期間短縮等の事務効率化）
F31: ☑ | H31: データでの許可書受理を承諾します。
F32: 使用時間や公演時間、料金などについて特記事項がございましたら、 こちらにご記入ください。
A34: 上記申請のとおり許可してよろしいか
A35: 決 裁 | J35: 館長 | L35: 副館長 | Q35: 担当
C36: 年 | F36: 月 | I36: 日

Sheet 申請書　記入用
A1: 様式第１号（第５条、第６条関係）
G2: 文化会館 | J2: （市民会館） | N2: 使用許可（変更）申請書
O4: 受付番号 | T4: 第 | X4: 号
O5: 受付年月日 | T5: 年 | V5: 月 | X5: 日
A6: （宛先）各務原市文化会館指定管理者
C7: （公財）かかみがはら未来文化財団
I9: 使用団体 | L9: 所在地：
L10: 名称：
L11: 責任者名：
L12: 電話：
A14: 下記のとおり文化会館を使用したいので許可されるよう申請します。
A15: 催物の名称
A16: 催物の内容
A17: 使用日時① | H17: 月 | J17: 日 | K17: （ | M17: ） | N17: 午前 | Q17: 時 | R17: ～ | T17: 午後 | W17: 時
A18: 使用日時② | H18: 月 | J18: 日 | K18: （ | M18: ） | N18: 午前 | Q18: 時 | R18: ～ | T18: 午後 | W18: 時
A19: 使用日時③ | H19: 月 | J19: 日 | K19: （ | M19: ） | N19: 午前 | Q19: 時 | R19: ～ | T19: 午後 | W19: 時
A20: 使用日時④ | H20: 月 | J20: 日 | K20: （ | M20: ） | N20: 午前 | Q20: 時 | R20: ～ | T20: 午後 | W20: 時
A21: 使用日時⑤ | H21: 月 | J21: 日 | K21: （ | M21: ） | N21: 午前 | Q21: 時 | R21: ～ | T21: 午後 | W21: 時
A22: 使用日時⑥ | H22: 月 | J22: 日 | K22: （ | M22: ） | N22: 午前 | Q22: 時 | R22: ～ | T22: 午後 | W22: 時
A23: 入場料金の有無 | G23: 有 | N23: 入場予定人員 | X23: 人
A24: 有料の場合の料金 | F24: 前売 | K24: 円 | O24: 円 | S24: 円 | X24: 円
F25: 当日 | K25: 円 | O25: 円 | S25: 円 | X25: 円
A26: 席 種・券 種
A27: 予定時間 | H27: 開催日 | M27: 開 場 | Q27: 開 演 | U27: 終 演
F28: 第一回
F29: 第二回
A30: その他 | F30: □ | H30: 使用許可書への公印の押印の省略について承認します。 （省略の目的：使用許可書到着期間短縮等の事務効率化）
F31: □ | H31: データでの許可書受理を承諾します。
A33: 上記申請のとおり許可してよろしいか
A34: 決 裁 | J34: 館長 | L34: 副館長 | Q34: 担当
C35: 年 | F35: 月 | I35: 日

Sheet 許可書
A1: 様式第２号（第５条関係）
G2: 文化会館 | J2: ='申請書 記入用'!J2:M2 -> （市民会館） | N2: 使用許可書
O4: 受付番号 | T4: 第 | U4: ='申請書 記入用'!U4:W4 -> 0 | X4: 号
O5: 受付年月日 | R5: ='申請書 記入用'!R5:S5 -> 0 | T5: 年 | U5: ='申請書 記入用'!U5 -> 0 | V5: 月 | W5: ='申請書 記入用'!W5 -> 0 | X5: 日
A6: （宛先）各務原市文化会館指定管理者
C7: （公財）かかみがはら未来文化財団
I9: 使用団体 | L9: 所在地： | O9: ='申請書 記入用'!O9:X9 -> 0
L10: 名称： | O10: ='申請書 記入用'!O10:X10 -> 0
L11: 責任者名： | O11: ='申請書 記入用'!O11:X11 -> 0
L12: 電話： | O12: ='申請書 記入用'!O12:X12 -> 0
A14: 下記のとおり文化会館の使用を許可します。
A15: 催物の名称 | F15: ='申請書 記入用'!F15:X15 -> 0
A16: 催物の内容 | F16: ='申請書 記入用'!F16:X16 -> 0
A17: 使用日時① | G17: ='申請書 記入用'!G17 -> 0 | H17: 月 | I17: ='申請書 記入用'!I17 -> 0 | J17: 日 | K17: （ | L17: ='申請書 記入用'!L17 -> 0 | M17: ） | N17: ='申請書 記入用'!N17 -> 午前 | O17: ='申請書 記入用'!O17 -> 0 | Q17: 時 | R17: ～ | T17: ='申請書 記入用'!T17 -> 午後 | U17: ='申請書 記入用'!U17 -> 0 | W17: 時
A18: 使用日時② | G18: ='申請書 記入用'!G18 -> 0 | H18: 月 | I18: ='申請書 記入用'!I18 -> 0 | J18: 日 | K18: （ | L18: ='申請書 記入用'!L18 -> 0 | M18: ） | N18: ='申請書 記入用'!N18 -> 午前 | O18: ='申請書 記入用'!O18 -> 0 | Q18: 時 | R18: ～ | T18: ='申請書 記入用'!T18 -> 午後 | U18: ='申請書 記入用'!U18 -> 0 | W18: 時
A19: 使用日時③ | G19: ='申請書 記入用'!G19 -> 0 | H19: 月 | I19: ='申請書 記入用'!I19 -> 0 | J19: 日 | K19: （ | L19: ='申請書 記入用'!L19 -> 0 | M19: ） | N19: ='申請書 記入用'!N19 -> 午前 | O19: ='申請書 記入用'!O19 -> 0 | Q19: 時 | R19: ～ | T19: ='申請書 記入用'!T19 -> 午後 | U19: ='申請書 記入用'!U19 -> 0 | W19: 時
A20: 使用日時④ | G20: ='申請書 記入用'!G20 -> 0 | H20: 月 | I20: ='申請書 記入用'!I20 -> 0 | J20: 日 | K20: （ | L20: ='申請書 記入用'!L20 -> 0 | M20: ） | N20: ='申請書 記入用'!N20 -> 午前 | O20: ='申請書 記入用'!O20 -> 0 | Q20: 時 | R20: ～ | T20: ='申請書 記入用'!T20 -> 午後 | U20: ='申請書 記入用'!U20 -> 0 | W20: 時
A21: 使用日時⑤ | G21: ='申請書 記入用'!G21 -> 0 | H21: 月 | I21: ='申請書 記入用'!I21 -> 0 | J21: 日 | K21: （ | L21: ='申請書 記入用'!L21 -> 0 | M21: ） | N21: ='申請書 記入用'!N21 -> 午前 | O21: ='申請書 記入用'!O21 -> 0 | Q21: 時 | R21: ～ | T21: ='申請書 記入用'!T21 -> 午後 | U21: ='申請書 記入用'!U21 -> 0 | W21: 時
A22: 使用日時⑥ | G22: ='申請書 記入用'!G22 -> 0 | H22: 月 | I22: ='申請書 記入用'!I22 -> 0 | J22: 日 | K22: （ | L22: ='申請書 記入用'!L22 -> 0 | M22: ） | N22: ='申請書 記入用'!N22 -> 午前 | O22: ='申請書 記入用'!O22 -> 0 | Q22: 時 | R22: ～ | T22: ='申請書 記入用'!T22 -> 午後 | U22: ='申請書 記入用'!U22 -> 0 | W22: 時
A23: 入場料金の有無 | G23: ='申請書 記入用'!G23:I23 -> 有 | N23: 入場予定人員 | T23: ='申請書 記入用'!T23:W23 -> 0 | X23: 人
A24: 有料の場合の料金 | F24: 前売 | H24: ='申請書 記入用'!H24:J24 -> 0 | K24: 円 | L24: ='申請書 記入用'!L24:N24 -> 0 | O24: 円 | P24: ='申請書 記入用'!P24:R24 -> 0 | S24: 円 | T24: ='申請書 記入用'!T24:W24 -> 0 | X24: 円
F25: 当日 | H25: ='申請書 記入用'!H25:J25 -> 0 | K25: 円 | L25: ='申請書 記入用'!L25:N25 -> 0 | O25: 円 | P25: ='申請書 記入用'!P25:R25 -> 0 | S25: 円 | T25: ='申請書 記入用'!T25:W25 -> 0 | X25: 円
A26: 席 種・券 種 | G26: ='申請書 記入用'!G26:K26 -> 0
A27: 予定時間 | H27: 開催日 | M27: 開 場 | Q27: 開 演 | U27: 終 演
F28: 第一回 | H28: ='申請書 記入用'!H28:L28 -> 0 | M28: ='申請書 記入用'!M28:P28 -> 0 | Q28: ='申請書 記入用'!Q28:T28 -> 0 | U28: ='申請書 記入用'!U28:X28 -> 0
F29: 第二回 | H29: ='申請書 記入用'!H29:L29 -> 0 | M29: ='申請書 記入用'!M29:P29 -> 0 | Q29: ='申請書 記入用'!Q29:T29 -> 0 | U29: ='申請書 記入用'!U29:X29 -> 0
A30: その他 | F30: ='申請書 記入用'!F30:G30 -> □ | H30: 使用許可書への公印の押印の省略について承認します。 （省略の目的：使用許可書到着期間短縮等の事務効率化）
F31: ='申請書 記入用'!F31:G31 -> □ | H31: データでの許可書受理を承諾します。
F32: ='申請書 記入用'!F32:X32 -> 0
A33: 許可番号 | F33: 第 | N33: 号 | P33: 使用料 | W33: 円
A34: 許可条件 | F34: 条例、規則及び係員の指示を守ること。
G36: 年 | I36: 月 | K36: 日 | N36: 各務原市文化会館指定管理者
N37: （公財）かかみがはら未来文化財団
